BEGIN:VCALENDAR
VERSION:2.0
PRODID:-//Old Settlers Days - ECPv6.15.20//NONSGML v1.0//EN
CALSCALE:GREGORIAN
METHOD:PUBLISH
X-ORIGINAL-URL:https://oldsettlers.net
X-WR-CALDESC:Events for Old Settlers Days
REFRESH-INTERVAL;VALUE=DURATION:PT1H
X-Robots-Tag:noindex
X-PUBLISHED-TTL:PT1H
BEGIN:VTIMEZONE
TZID:America/Indiana/Indianapolis
BEGIN:DAYLIGHT
TZOFFSETFROM:-0500
TZOFFSETTO:-0400
TZNAME:EDT
DTSTART:20250309T070000
END:DAYLIGHT
BEGIN:STANDARD
TZOFFSETFROM:-0400
TZOFFSETTO:-0500
TZNAME:EST
DTSTART:20251102T060000
END:STANDARD
BEGIN:DAYLIGHT
TZOFFSETFROM:-0500
TZOFFSETTO:-0400
TZNAME:EDT
DTSTART:20260308T070000
END:DAYLIGHT
BEGIN:STANDARD
TZOFFSETFROM:-0400
TZOFFSETTO:-0500
TZNAME:EST
DTSTART:20261101T060000
END:STANDARD
BEGIN:DAYLIGHT
TZOFFSETFROM:-0500
TZOFFSETTO:-0400
TZNAME:EDT
DTSTART:20270314T070000
END:DAYLIGHT
BEGIN:STANDARD
TZOFFSETFROM:-0400
TZOFFSETTO:-0500
TZNAME:EST
DTSTART:20271107T060000
END:STANDARD
END:VTIMEZONE
BEGIN:VEVENT
DTSTART;TZID=America/Indiana/Indianapolis:20260619T000000
DTEND;TZID=America/Indiana/Indianapolis:20260619T235959
DTSTAMP:20260421T071033
CREATED:20230421T134306Z
LAST-MODIFIED:20260319T143004Z
UID:655-1781827200-1781913599@oldsettlers.net
SUMMARY:OSD Pickleball Classic
DESCRIPTION:FRIDAY\, JUNE 19TH \n3.5 Mixed Doubles – 4pm Start\n4.0 Mixed Doubles – 6pm Start\n3.0 Mixed Doubles – 6pm Start
URL:https://oldsettlers.net/event/osd-pickleball-classic/
LOCATION:Fahl Aquatic Center
ATTACH;FMTTYPE=image/png:https://oldsettlers.net/wp-content/uploads/2023/04/pickleball-ps.png
END:VEVENT
BEGIN:VEVENT
DTSTART;TZID=America/Indiana/Indianapolis:20260620T000000
DTEND;TZID=America/Indiana/Indianapolis:20260620T235959
DTSTAMP:20260421T071033
CREATED:20230511T200953Z
LAST-MODIFIED:20260319T143100Z
UID:1199-1781913600-1781999999@oldsettlers.net
SUMMARY:OSD Pickleball Classic
DESCRIPTION:SATURDAY\, JUNE 20TH \n4.0 Men’s Doubles & Women’s Doubles – 9am Start\n3.5 Men’s Doubles & Women’s Doubles – 12pm Start\n3.0 Men’s Doubles & Women’s Doubles – 3pm Start
URL:https://oldsettlers.net/event/osd-pickleball-classic-2/
LOCATION:Fahl Aquatic Center
ATTACH;FMTTYPE=image/png:https://oldsettlers.net/wp-content/uploads/2023/04/pickleball-ps.png
END:VEVENT
END:VCALENDAR